BEGIN:VCALENDAR
VERSION:2.0
PRODID:-//Java Tableware | Perusahaan Piring Keramik - ECPv4.9.4//NONSGML v1.0//EN
CALSCALE:GREGORIAN
METHOD:PUBLISH
X-WR-CALNAME:Java Tableware | Perusahaan Piring Keramik
X-ORIGINAL-URL:https://javatableware.com
X-WR-CALDESC:Events for Java Tableware | Perusahaan Piring Keramik
BEGIN:VTIMEZONE
TZID:"UTC"
BEGIN:STANDARD
TZOFFSETFROM:+0000
TZOFFSETTO:+0000
TZNAME:UTC
DTSTART:20190101T000000
END:STANDARD
END:VTIMEZONE
BEGIN:VEVENT
DTSTART;VALUE=DATE:20190724
DTEND;VALUE=DATE:20190728
DTSTAMP:20260424T224947
CREATED:20190721T221116Z
LAST-MODIFIED:20190724T015204Z
UID:1264-1563926400-1564271999@javatableware.com
SUMMARY:Food & Hotel Indonesia 2019
DESCRIPTION: \n\ndocument.addEventListener("DOMContentLoaded"\, function(event) { \n	jQuery( '#example3_1379' ).sliderPro({\n		//width\n				width: 1000\,\n				\n		//height\n				height: 500\,\n				\n		//autoplay\n						autoplay: true\,\n		autoplayOnHover: 'pause'\,\n						autoplayDelay: 5000\,\n		\n		\n		arrows: false\,\n		buttons: true\,\n		smallSize: 500\,\n		mediumSize: 1000\,\n		largeSize: 3000\,\n		fade: true\,\n		\n		//thumbnail\n		thumbnailArrows: true\,\n		thumbnailWidth: 120\,\n		thumbnailHeight: 120\,\n						thumbnailsPosition: 'bottom'\,\n						centerImage: true\,\n		imageScaleMode: 'cover'\,\n		allowScaleUp: true\,\n				startSlide: 0\,\n		loop: true\,\n		slideDistance: 5\,\n		autoplayDirection: 'normal'\,\n		touchSwipe: true\,\n		fullScreen: true\,\n	});\n});\n\n\n/* Layout 3 */\n/* border */\n#example3_1379 .sp-selected-thumbnail {\n	border: 4px solid #000000;\n}\n\n/* font + color */\n.title-in  {\n	font-family: Arial !important;\n	color: #00000 !important;\n	background-color: #FFFFFF !important;\n	opacity: 0.7 !important;\n}\n.desc-in  {\n	font-family: Arial !important;\n	color: #FFFFFF !important;\n	background-color: #00000 !important;\n	opacity: 0.7 !important;\n}\n\n/* bullets color */\n.sp-button  {\n	border: 2px solid #000000 !important;\n}\n.sp-selected-button  {\n	background-color: #000000 !important;\n}\n\n/* pointer color - bottom */\n.sp-selected-thumbnail::before {\n	border-bottom: 5px solid #000000 !important;\n}\n.sp-selected-thumbnail::after {\n	border-bottom: 13px solid #000000 !important;\n}\n\n/* pointer color - top */\n\n/* full screen icon */\n.sp-full-screen-button::before {\n    color: #FFFFFF !important;\n}\n\n/* hover navigation icon color */\n.sp-next-arrow::after\, .sp-next-arrow::before {\n	background-color: #FFFFFF !important;\n}\n.sp-previous-arrow::after\, .sp-previous-arrow::before {\n	background-color: #FFFFFF !important;\n}\n\n#example3_1379 .title-in {\n	color: #00000 !important;\n	font-weight: bolder;\n	text-align: center;\n}\n\n#example3_1379 .title-in-bg {\n	background: rgba(255\, 255\, 255\, 0.7); !important;\n	white-space: unset !important;\n	max-width: 90%;\n	min-width: 40%;\n	transform: initial !important;\n	-webkit-transform: initial !important;\n	font-size: 14px !important;\n}\n\n#example3_1379 .desc-in {\n	color: #FFFFFF !important;\n	text-align: center;\n}\n#example3_1379 .desc-in-bg {\n	background: rgba(#00000\, 0.7) !important;\n	white-space: unset !important;\n	width: 80% !important;\n	min-width: 30%;\n	transform: initial !important;\n	-webkit-transform: initial !important;\n	font-size: 13px !important;\n}\n\n.uris-title{\n	font-family: Arial;\n		text-align: center;\n}\n\n@media (max-width: 640px) {\n	#example3_1379 .hide-small-screen {\n		display: none;\n	}\n}\n\n@media (max-width: 860px) {\n	#example3_1379 .sp-layer {\n		font-size: 18px;\n	}\n	\n	#example3_1379 .hide-medium-screen {\n		display: none;\n	}\n}\n.fnf{\n	background-color: #a92929;\n	border-radius: 5px;\n	color: #fff;\n	font-family: initial;\n	text-align: center;\n	padding:12px;\n}\n/* Custom CSS */\n\n		\n			\n			\n							\n						\n							\n\n							\n							\n													\n									\n						\n							\n\n							\n							\n													\n									\n						\n							\n\n							\n							\n													\n									\n						\n							\n\n							\n							\n													\n									\n						\n							\n\n							\n							\n													\n									\n						\n							\n\n							\n							\n													\n									\n						\n							\n\n							\n							\n													\n									\n						\n							\n\n							\n							\n													\n									\n						\n							\n\n							\n							\n													\n								\n			\n			\n			\n							\n		\n\n
URL:https://javatableware.com/event/food-hotel-indonesia-2019/
LOCATION:JIEXPO\, Jakarta International Expo RW.10\, East Pademangan Pademangan Central Jakarta City\, Jakarta 14410 Indonesia\, Jakarta\, DKI Jakarta\, 14410\, Indonesia
END:VEVENT
END:VCALENDAR